BEGIN:VCALENDAR
VERSION:2.0
PRODID:-//ExpressionEngine Easy iCalendar plugin//NONSGML v2.0.1//EN
X-WR-TIMEZONE:America/Chicago
X-WR-CALNAME:Upcoming Auctions
BEGIN:VEVENT
UID:151866
DTSTAMP:20251115T090000
DTSTART:20251115T090000
DTEND:20251115T100000
SUMMARY:LIVE ONSITE ABSOLUTE FARM EQUIPMENT AUCTION!
LOCATION:5677 County Road 136\, Town Creek\, AL 35672\, US
DESCRIPTION:SOLD!!! AND A GREAT DAY\, THANKS TO ALL OF YOU WHO PARTICIPAT
 ED!!! LIVE ONSITE ABSOLUTE FARM EQUIPMENT AUCTION in the "Ha
 tton" Community of Lawrence County\, Alabama! Saturday\, Novem
 ber 15th at 9:00 A.M. Tractor - Truck - Trailers - Hay Equip
 ment - Farm Equipment & More! "Selling for Roger Parker"
URL:https://www.phillipsbrothersauctions.com/auctions/detail/bw1
 51866
SEQUENCE:1
END:VEVENT
END:VCALENDAR